BEGIN:VCALENDAR
VERSION:2.0
PRODID:-//Freundeskreis der GS Satteldorf e.V. - ECPv6.15.20//NONSGML v1.0//EN
CALSCALE:GREGORIAN
METHOD:PUBLISH
X-ORIGINAL-URL:https://freundeskreis-gs-satteldorf.de
X-WR-CALDESC:Veranstaltungen für Freundeskreis der GS Satteldorf e.V.
REFRESH-INTERVAL;VALUE=DURATION:PT1H
X-Robots-Tag:noindex
X-PUBLISHED-TTL:PT1H
BEGIN:VTIMEZONE
TZID:UTC
BEGIN:STANDARD
TZOFFSETFROM:+0000
TZOFFSETTO:+0000
TZNAME:UTC
DTSTART:20230101T000000
END:STANDARD
END:VTIMEZONE
BEGIN:VEVENT
DTSTART;TZID=UTC:20240506T200000
DTEND;TZID=UTC:20240506T213000
DTSTAMP:20260422T192431
CREATED:20240504T195716Z
LAST-MODIFIED:20240504T195716Z
UID:38-1715025600-1715031000@freundeskreis-gs-satteldorf.de
SUMMARY:Vorstandssitzung
DESCRIPTION:
URL:https://freundeskreis-gs-satteldorf.de/event/vorstandssitzung/
LOCATION:Baden-Württemberg
END:VEVENT
END:VCALENDAR