BEGIN:VCALENDAR
VERSION:2.0
PRODID:-//Freundeskreis der GS Satteldorf e.V. - ECPv6.15.20//NONSGML v1.0//EN
CALSCALE:GREGORIAN
METHOD:PUBLISH
X-WR-CALNAME:Freundeskreis der GS Satteldorf e.V.
X-ORIGINAL-URL:https://freundeskreis-gs-satteldorf.de
X-WR-CALDESC:Veranstaltungen für Freundeskreis der GS Satteldorf e.V.
REFRESH-INTERVAL;VALUE=DURATION:PT1H
X-Robots-Tag:noindex
X-PUBLISHED-TTL:PT1H
BEGIN:VTIMEZONE
TZID:UTC
BEGIN:STANDARD
TZOFFSETFROM:+0000
TZOFFSETTO:+0000
TZNAME:UTC
DTSTART:20240101T000000
END:STANDARD
END:VTIMEZONE
BEGIN:VEVENT
DTSTART;VALUE=DATE:20250517
DTEND;VALUE=DATE:20250518
DTSTAMP:20260420T130712
CREATED:20241227T151351Z
LAST-MODIFIED:20241227T151351Z
UID:295-1747440000-1747526399@freundeskreis-gs-satteldorf.de
SUMMARY:Schulfest
DESCRIPTION:
URL:https://freundeskreis-gs-satteldorf.de/event/schulfest/
LOCATION:Grundschule Satteldorf\, Barenhalder Straße 3\, Satteldorf\, Baden-Württemberg\, 74589\, Deutschland
END:VEVENT
END:VCALENDAR