BEGIN:VCALENDAR
VERSION:2.0
PRODID:-//Freundeskreis der GS Satteldorf e.V. - ECPv6.15.20//NONSGML v1.0//EN
CALSCALE:GREGORIAN
METHOD:PUBLISH
X-WR-CALNAME:Freundeskreis der GS Satteldorf e.V.
X-ORIGINAL-URL:https://freundeskreis-gs-satteldorf.de
X-WR-CALDESC:Veranstaltungen für Freundeskreis der GS Satteldorf e.V.
REFRESH-INTERVAL;VALUE=DURATION:PT1H
X-Robots-Tag:noindex
X-PUBLISHED-TTL:PT1H
BEGIN:VTIMEZONE
TZID:UTC
BEGIN:STANDARD
TZOFFSETFROM:+0000
TZOFFSETTO:+0000
TZNAME:UTC
DTSTART:20230101T000000
END:STANDARD
END:VTIMEZONE
BEGIN:VEVENT
DTSTART;TZID=UTC:20241112T100000
DTEND;TZID=UTC:20241205T160000
DTSTAMP:20260422T115820
CREATED:20241113T201337Z
LAST-MODIFIED:20241113T201337Z
UID:286-1731405600-1733414400@freundeskreis-gs-satteldorf.de
SUMMARY:Förderwettbewerb SpardaImpuls
DESCRIPTION:Wir benötigen Eure Hilfe! \nDer Freundeskreis hat die Grundschule Satteldorf beim Förderwettbewerb SpardaImpuls angemeldet. Dort können wir bis zu 3.000 Euro für unser angemeldetes Projekt „Schulbücherei“ zu gewinnen. \nWas müsste ihr tun? Bitte über folgenden Link unserer Schule Eure Stimme geben. \n\nSMS Code anfordern\, denn jeder darf nur einmal abstimmen über diesen Link:\nhttps://spardaimpuls.de/code-anfordern\n\nMit dem erhaltenen SMS Code auf folgernder Seite für unser Projekt stimmen:\nhttps://spardaimpuls.de/projekte/670cee24305fff5187e9e084\nAbstimmungszeitraum: Dienstag\, 12. November um 10:00 Uhr bis Donnerstag\, 5. Dezember um 16:00 Uhr\n\n\nHier noch eine Beschreibung unseres Projektes „Schulbücherei“ \nDafür machen wir uns stark: \nDie Leseförderung ist ein großes Ziel unserer Schulgemeinschaft. Neben vielen Projekten rund ums Lesen\, wie dem Besuch von Lesungen\, dem Besuch der Stadtbücherei\, Lesepatenschaften uvm. \, planen wir die Einrichtung einer Schulbücherei. \nAus unserer Sicht gehört eine Schulbücherei zur Grundausstattung einer Schule. Mit ihr wollen wir die Begeisterung fürs Lesen weiter steigern. Außerdem soll die Bücherei ein Ort des Entspannens sein und einladen sich neue Horizonte zu erschließen. \nSchon in der Grundschule soll hier die Bibliotheks- und Medienkompetenz gefördert werden. Finanzielle Unterstützung benötigen wir\, um einen entsprechenden Raum für die Schülerbücherei zu gestalten und auch ein Grundsortiment an Büchern anzuschaffen\, welches dann Zug um Zug erweitert werden soll. \nDas ist unsere Schule: \nWir sind eine dreizügige Grundschule im ländlichen Raum. Neben unserem Bewegungsschwerpunkt\, legen wir auch viel wert auf kulturelle Bildung. So sind Theaterbesuche und Lesungen fest in unserem Jahrescurriculum verankert. \nAußerdem sind wir auch Ganztagesschule und bieten auch im Nachmittagsbereich ein vielfältiges AG-Angebot an\, welches auch Angebote im Bereich “Lesen” umfasst. Eine sehr aktive Schulgemeinschaft\, eine gute Kooperation zu den örtlichen Vereinen und der Kirche ermöglichen uns einen vielseitigen Schulalltag\, der von einer großen Gemeinschaft getragen wird.
URL:https://freundeskreis-gs-satteldorf.de/event/foerderwettbewerb-spardaimpuls/
LOCATION:Online
END:VEVENT
END:VCALENDAR